BEGIN:VCALENDAR
VERSION:2.0
PRODID:-//WHBTC - ECPv6.13.2.1//NONSGML v1.0//EN
CALSCALE:GREGORIAN
METHOD:PUBLISH
X-ORIGINAL-URL:https://whbtc.ie
X-WR-CALDESC:Events for WHBTC
REFRESH-INTERVAL;VALUE=DURATION:PT1H
X-Robots-Tag:noindex
X-PUBLISHED-TTL:PT1H
BEGIN:VTIMEZONE
TZID:UTC
BEGIN:STANDARD
TZOFFSETFROM:+0000
TZOFFSETTO:+0000
TZNAME:UTC
DTSTART:20250101T000000
END:STANDARD
END:VTIMEZONE
BEGIN:VEVENT
DTSTART;TZID=UTC:20250120T080000
DTEND;TZID=UTC:20250222T190000
DTSTAMP:20260421T125927
CREATED:20250103T153044Z
LAST-MODIFIED:20250224T225331Z
UID:3704-1737360000-1740250800@whbtc.ie
SUMMARY:Talbot Hotel Winter Doubles
DESCRIPTION:The Talbot Hotel Winter Doubles League will commence on Monday 20th January\, running for five weeks\, until Finals Night on Saturday 22nd February.  The League will have Ladies & Gents Doubles with three classes – 2/3\, 4/5\, and 6/7 – subject to the  number of entries.  If entries don’t meet the required quota\, classes will be merged. \nPlayers can choose their own partner or enter with ‘Partner Wanted’ and the Tennis Committee will arrange pairings.  To keep the league interesting\, players are encouraged to play with someone they don’t ordinarily enter competitions with and are not permitted to enter with anyone they have reached a final with in any competition\, internal or external\, in 2024. \nEntry is now open – for any queries please contact Tennis Captain Amanda Whitmore 087 4419140 or Tournament Referee Bernie Morrissey 086 6027658.  Entry Fee €5 per person.  Please read the Tournament Regulations before entering. \nEntries are now open\, Click here to enter \n  \n  \n  \n 
URL:https://whbtc.ie/event/talbot-hotel-winter-doubles/
LOCATION:Wexford Harbour Boat & Tennis Club\, Redmond Road\, Wexford\, Y35 Y236
CATEGORIES:Events,Tennis Event
ATTACH;FMTTYPE=image/png:https://whbtc.ie/wp-content/uploads/2025/01/talbot-doubles.png
END:VEVENT
END:VCALENDAR