BEGIN:VCALENDAR
VERSION:2.0
PRODID:-//WHBTC - ECPv6.13.2.1//NONSGML v1.0//EN
CALSCALE:GREGORIAN
METHOD:PUBLISH
X-ORIGINAL-URL:https://whbtc.ie
X-WR-CALDESC:Events for WHBTC
REFRESH-INTERVAL;VALUE=DURATION:PT1H
X-Robots-Tag:noindex
X-PUBLISHED-TTL:PT1H
BEGIN:VTIMEZONE
TZID:UTC
BEGIN:STANDARD
TZOFFSETFROM:+0000
TZOFFSETTO:+0000
TZNAME:UTC
DTSTART:20260101T000000
END:STANDARD
END:VTIMEZONE
BEGIN:VEVENT
DTSTART;TZID=UTC:20260713T080000
DTEND;TZID=UTC:20270724T170000
DTSTAMP:20260423T162257
CREATED:20260323T104427Z
LAST-MODIFIED:20260323T104427Z
UID:4072-1783929600-1816448400@whbtc.ie
SUMMARY:Level 4 Advanced Boat Handling
DESCRIPTION:Objective: To develop advanced boat handling\, tuning skills and to prepare sailors to sail flat out in strong winds. Sailors must have completed the Improving Skills course. \nMembers book here  \nVisitors Book here
URL:https://whbtc.ie/event/level-4-advanced-boat-handling-2/
LOCATION:Wexford Harbour Boat & Tennis Club\, Redmond Road\, Wexford\, Y35 Y236
CATEGORIES:Events,Sailing Event
ATTACH;FMTTYPE=image/png:https://whbtc.ie/wp-content/uploads/2025/02/Copy-of-Weekly-Newsletter-12.png
END:VEVENT
BEGIN:VEVENT
DTSTART;TZID=UTC:20260803T080000
DTEND;TZID=UTC:20270807T170000
DTSTAMP:20260423T162257
CREATED:20260323T114536Z
LAST-MODIFIED:20260323T114622Z
UID:4081-1785744000-1817658000@whbtc.ie
SUMMARY:Cara na Mara
DESCRIPTION:Cara na Mara provides a child centred approach to introducing children to sailing and the marine environment. Ages 6-10. Wetsuit\, Bouyancy Aid and Wet-boots/Old Runners needed. PLEASE ARRIVE CHANGED. \nMembers book here  \nVisitors book here \n 
URL:https://whbtc.ie/event/cara-na-mara-6/
LOCATION:Wexford Harbour Boat & Tennis Club\, Redmond Road\, Wexford\, Y35 Y236
CATEGORIES:Events,Sailing Event
ATTACH;FMTTYPE=image/png:https://whbtc.ie/wp-content/uploads/2025/02/Copy-of-Weekly-Newsletter-5.png
END:VEVENT
END:VCALENDAR