BEGIN:VCALENDAR
VERSION:2.0
PRODID:-//WHBTC - ECPv6.13.2.1//NONSGML v1.0//EN
CALSCALE:GREGORIAN
METHOD:PUBLISH
X-WR-CALNAME:WHBTC
X-ORIGINAL-URL:https://whbtc.ie
X-WR-CALDESC:Events for WHBTC
REFRESH-INTERVAL;VALUE=DURATION:PT1H
X-Robots-Tag:noindex
X-PUBLISHED-TTL:PT1H
BEGIN:VTIMEZONE
TZID:UTC
BEGIN:STANDARD
TZOFFSETFROM:+0000
TZOFFSETTO:+0000
TZNAME:UTC
DTSTART:20260101T000000
END:STANDARD
END:VTIMEZONE
BEGIN:VEVENT
DTSTART;TZID=UTC:20260323T080000
DTEND;TZID=UTC:20260807T170000
DTSTAMP:20260421T115318
CREATED:20260323T114038Z
LAST-MODIFIED:20260323T114105Z
UID:4079-1774252800-1786122000@whbtc.ie
SUMMARY:Level 4 Go Racing
DESCRIPTION:Introduction to sail boat racing and developing skills and knowledge to a level to comfortably race at club and inter club level in Ireland. Must have completed Improving Skills to partake. \n  \nMembers book here  \nVisitors book here
URL:https://whbtc.ie/event/level-4-go-racing/
LOCATION:Wexford Harbour Boat & Tennis Club\, Redmond Road\, Wexford\, Y35 Y236
CATEGORIES:Events,Sailing Event
ATTACH;FMTTYPE=image/png:https://whbtc.ie/wp-content/uploads/2026/03/Copy-of-Weekly-Newsletter-46.png
END:VEVENT
BEGIN:VEVENT
DTSTART;TZID=UTC:20260629T080000
DTEND;TZID=UTC:20260710T170000
DTSTAMP:20260421T115318
CREATED:20260323T105321Z
LAST-MODIFIED:20260323T105321Z
UID:4073-1782720000-1783702800@whbtc.ie
SUMMARY:Level 3 Improving Skills
DESCRIPTION:Objective: To develop the skills and knowledge sailors need in order to set up and sail the boat more effectively and in moderate conditions. Must have Basic Skills Cert and sailed over past 6 months. \nMembers Book here  \nVisitors Book here
URL:https://whbtc.ie/event/level-3-improving-skills-2/
LOCATION:Wexford Harbour Boat & Tennis Club\, Redmond Road\, Wexford\, Y35 Y236
CATEGORIES:Events,Sailing Event
ATTACH;FMTTYPE=image/png:https://whbtc.ie/wp-content/uploads/2025/02/Copy-of-Weekly-Newsletter-14.png
END:VEVENT
BEGIN:VEVENT
DTSTART;TZID=UTC:20260629T100000
DTEND;TZID=UTC:20260703T180000
DTSTAMP:20260421T115318
CREATED:20260320T122532Z
LAST-MODIFIED:20260320T123458Z
UID:4064-1782727200-1783101600@whbtc.ie
SUMMARY:Level One - Start Sailing Course 29th June to 10th July
DESCRIPTION:An introduction to the basic boat handling techniques and background knowledge necessary to get started in sailing. Suitable from Age 9+. Boat hire available. Please book separately. \nMembers €310.  Non Members €385. \nMembers Click Here \nNon Members Click Here
URL:https://whbtc.ie/event/level-one-start-sailing-course-29th-june-to-10th-july/
LOCATION:Wexford
CATEGORIES:Events,Sailing Event
ATTACH;FMTTYPE=image/png:https://whbtc.ie/wp-content/uploads/2026/03/Copy-of-Weekly-Newsletter-42.png
END:VEVENT
BEGIN:VEVENT
DTSTART;TZID=UTC:20260629T100000
DTEND;TZID=UTC:20260710T180000
DTSTAMP:20260421T115318
CREATED:20260320T125131Z
LAST-MODIFIED:20260320T125131Z
UID:4068-1782727200-1783706400@whbtc.ie
SUMMARY:Level 4 - Kites & Wires 29th June - 10th July
DESCRIPTION:To introduce sailors to the thrills and spills of sailing with spinnakers and trapezes. Requirement: double/multi handed boats equipped with spinnakers and trapezes. \nMembers €310.  Non Members €385. \nMembers Click Here \nNon Members Click Here
URL:https://whbtc.ie/event/level-4-kites-wires-29th-june-10th-july/
LOCATION:Wexford Harbour Boat & Tennis Club\, Redmond Road\, Wexford\, Y35 Y236
CATEGORIES:Events,Sailing Event
ATTACH;FMTTYPE=image/png:https://whbtc.ie/wp-content/uploads/2026/03/Copy-of-Weekly-Newsletter-43.png
END:VEVENT
END:VCALENDAR